BEGIN:VCALENDAR
VERSION:2.0
PRODID:-//Awbury Arboretum | Philadelphia, PA - ECPv6.15.20//NONSGML v1.0//EN
CALSCALE:GREGORIAN
METHOD:PUBLISH
X-WR-CALNAME:Awbury Arboretum | Philadelphia, PA
X-ORIGINAL-URL:https://awbury.org
X-WR-CALDESC:Events for Awbury Arboretum | Philadelphia, PA
REFRESH-INTERVAL;VALUE=DURATION:PT1H
X-Robots-Tag:noindex
X-PUBLISHED-TTL:PT1H
BEGIN:VTIMEZONE
TZID:America/New_York
BEGIN:DAYLIGHT
TZOFFSETFROM:-0500
TZOFFSETTO:-0400
TZNAME:EDT
DTSTART:20240310T070000
END:DAYLIGHT
BEGIN:STANDARD
TZOFFSETFROM:-0400
TZOFFSETTO:-0500
TZNAME:EST
DTSTART:20241103T060000
END:STANDARD
BEGIN:DAYLIGHT
TZOFFSETFROM:-0500
TZOFFSETTO:-0400
TZNAME:EDT
DTSTART:20250309T070000
END:DAYLIGHT
BEGIN:STANDARD
TZOFFSETFROM:-0400
TZOFFSETTO:-0500
TZNAME:EST
DTSTART:20251102T060000
END:STANDARD
BEGIN:DAYLIGHT
TZOFFSETFROM:-0500
TZOFFSETTO:-0400
TZNAME:EDT
DTSTART:20260308T070000
END:DAYLIGHT
BEGIN:STANDARD
TZOFFSETFROM:-0400
TZOFFSETTO:-0500
TZNAME:EST
DTSTART:20261101T060000
END:STANDARD
BEGIN:DAYLIGHT
TZOFFSETFROM:-0500
TZOFFSETTO:-0400
TZNAME:EDT
DTSTART:20270314T070000
END:DAYLIGHT
BEGIN:STANDARD
TZOFFSETFROM:-0400
TZOFFSETTO:-0500
TZNAME:EST
DTSTART:20271107T060000
END:STANDARD
END:VTIMEZONE
BEGIN:VEVENT
DTSTART;TZID=America/New_York:20260419T100000
DTEND;TZID=America/New_York:20260419T160000
DTSTAMP:20260420T061340
CREATED:20260324T001723Z
LAST-MODIFIED:20260402T162101Z
UID:10001059-1776592800-1776614400@awbury.org
SUMMARY:EARTH DAY 2026
DESCRIPTION:Sunday\, April 19\, 2026 | 10:00 AM – 4:00 PM | The Farm at Awbury\, 6336 Ardleigh St. (Meet at the Lightning House) \nGet your hands dirty this Earth Day! Join us at Awbury Arboretum for a community tree planting along the Wingahocking and in the Meadow—50 trees going in the ground\, one shovel at a time. All ages and skill levels welcome\, tree tenders strongly encouraged to register! \nAfter planting\, head to the Lightning House for hands-on paper activities\, including leaf printing\, grab a bite from local favorite Flat Belly Veg\, sip some coffee from High Pointe Cafe\, and explore activations from Awbury’s farm partners and friends. And don’t leave without joining the kickoff of the Historic Germantown Stamp Rally\, led by wellness coordinator Megan Do Nascimento! \nReady to dig in? Register for the Awbury Tree Planting below! \nAwbury Arboretum form
URL:https://awbury.org/event/earth-day-2026/
LOCATION:The Farm at Awbury\, 6336 Ardleigh St\, Philadelphia\, PA
CATEGORIES:Family Fun,Volunteering
ATTACH;FMTTYPE=image/png:https://awbury.org/wp-content/uploads/2026/03/CALENDAR-ICONS-15.png
END:VEVENT
BEGIN:VEVENT
DTSTART;TZID=America/New_York:20260119T100000
DTEND;TZID=America/New_York:20260119T130000
DTSTAMP:20260420T061340
CREATED:20260112T194443Z
LAST-MODIFIED:20260112T194443Z
UID:10001056-1768816800-1768827600@awbury.org
SUMMARY:MLK Day of Service
DESCRIPTION:Ready to give back this MLK Day? Join Awbury Arboretum for a Day of Service next Monday and help us tackle invasive plant removal on the grounds! \n📆 January 19th | 10 AM-1 PM \n📍 The Cope House\, 1 Awbury Rd. \n🧤 Bring your own gloves (light snacks and water provided) \nInterested? Register here: https://secure.lglforms.com/form_engine/s/cEkKOP2dKHwt2BTS1IeZKQ and spend your MLK Day making a meaningful impact at Awbury🌳
URL:https://awbury.org/event/mlk-day-of-service-2/
LOCATION:Awbury Arboretum\, One Awbury Road\, Philadelphia\, PA\, United States
CATEGORIES:Volunteering
ATTACH;FMTTYPE=image/png:https://awbury.org/wp-content/uploads/2026/01/GRAPHICS_2026-8.png
END:VEVENT
BEGIN:VEVENT
DTSTART;TZID=America/New_York:20251106T120000
DTEND;TZID=America/New_York:20251106T160000
DTSTAMP:20260420T061340
CREATED:20250903T201801Z
LAST-MODIFIED:20250903T201801Z
UID:10001045-1762430400-1762444800@awbury.org
SUMMARY:Fall Planting Day at Awbury
DESCRIPTION:Thursday\, November 6\, 2025 | 12:00–4:00 PM | 1 Awbury Rd. Philadelphia\, PA \nJoin us as we add up to 50 new trees to Awbury’s collection in just one afternoon! Tree Tenders from across Northwest Philly will be on hand to guide the planting\, and volunteers of all ages are invited to help root these future giants into our landscape. November is the perfect time to plant\, and your hands-on help will make a lasting impact for generations to come. \nFor more information\, contact: volunteer@awbury.org
URL:https://awbury.org/event/fall-planting-day-at-awbury/
LOCATION:The Francis Cope House\, One Awbury Road\, Philadelphia\, PA\, 19138
CATEGORIES:Volunteering
ATTACH;FMTTYPE=image/png:https://awbury.org/wp-content/uploads/2025/09/CALENDAR-ICONS-11.png
END:VEVENT
BEGIN:VEVENT
DTSTART;TZID=America/New_York:20250921T130000
DTEND;TZID=America/New_York:20250921T160000
DTSTAMP:20260420T061340
CREATED:20250618T203402Z
LAST-MODIFIED:20250916T181425Z
UID:10001033-1758459600-1758470400@awbury.org
SUMMARY:Picnic on the Farm
DESCRIPTION:Celebrating Membership\, Volunteerism\, Neighborhood Advocacy & Local Resilience \nSeptember 21st | 1-4 PM \nThis is a membership & volunteer event. Attendees must be active members of Awbury Arboretum or an affiliated group. See the list and RSVP HERE or contact our Membership Dept. at 215-849-2855 ext. 103 / membership@awbury.org. \nNot connected?Become a member  today.
URL:https://awbury.org/event/annual-volunteer-membership-picnic/
LOCATION:The Farm at Awbury\, 6336 Ardleigh St\, Philadelphia\, PA
CATEGORIES:Family Fun,Membership,Membership & Development,Volunteering
ATTACH;FMTTYPE=application/pdf:https://awbury.org/wp-content/uploads/2025/06/PICNIC25_THMBNL-1.pdf
END:VEVENT
BEGIN:VEVENT
DTSTART;TZID=America/New_York:20250528T090000
DTEND;TZID=America/New_York:20250528T120000
DTSTAMP:20260420T061340
CREATED:20250505T173104Z
LAST-MODIFIED:20250505T173104Z
UID:10001015-1748422800-1748433600@awbury.org
SUMMARY:Awbury Food Forest Volunteer Work Day
DESCRIPTION:May 28th | 9:00 AM – 12:00 PM | The Farm at Awbury\, 6336 Ardleigh St. \nGet your hands dirty for a good cause! Join Awbury staff every fourth Wednesday of the month to help care for the Awbury Food Forest. Tasks include removing invasive plants\, tending to trees\, and keeping the space thriving and beautiful. This is an ongoing volunteer opportunity\, so please register only if you’re able to return for future dates. Sign up for Food Forest volunteering here. Can’t commit long-term? Register for general volunteer days here and let us know you’re ready to pitch in when you can!
URL:https://awbury.org/event/awbury-food-forest-volunteer-work-day/
LOCATION:The Farm at Awbury\, 6336 Ardleigh St\, Philadelphia\, PA
CATEGORIES:Foraging and Herbal Education,Volunteering
ATTACH;FMTTYPE=image/png:https://awbury.org/wp-content/uploads/2025/05/CALENDAR-ICONS-4-Volunteer-Opportunity-1.png
END:VEVENT
BEGIN:VEVENT
DTSTART;TZID=America/New_York:20250419T120000
DTEND;TZID=America/New_York:20250419T160000
DTSTAMP:20260420T061340
CREATED:20250219T221418Z
LAST-MODIFIED:20250414T193456Z
UID:10000985-1745064000-1745078400@awbury.org
SUMMARY:Earth Day at Awbury Arboretum
DESCRIPTION:Join us at The Farm at Awbury on April 19th from 12pm – 4pm to celebrate Earth Day! We’re having an early Earth Day celebration and inviting our friends\, neighbors\, and the entire Philadelphia community to come out for a fun day of volunteering\, games\, live demos and more! Earth Day is a free and open to the public event! So bring your family and friends and join in the fun! See what we’ll be up to for the day below: \n12PM \n\nVolunteer Activity on The Farm: Help us clear vines and multiflora\, cut and clear ivy from mature trees and invasive honeysuckle\, remove old tree cages from young trees\, and more! Contact volunteers@awbury.org to learn more or sign up!\nJoin the S(tree)twork Project at the Lighting House to make leaf prints and natural art!\nStop by the Historic Germantown table and join our wellness coordinator Megan Do Nascimento for a afternoon wellness walk around the arboretum!\nStop by with the entire family for a yoga session with Heartwell Yoga!\n\n1PM \n\nLink up with Land Based Jawn for a ‘what’s in your grow back’ activity under the pavilion! \nStop by and join the Philly Goat Projects down in the picnic grove for some goat games galore!\nJoin Fletcher Street Urban Riding club for horse rides around the farm! This is a ticketed event at $10 per ride. \n\n3PM \n\nCatch a live performance from Ants on a Log at The Lighting House! \n\nWe’ll have different vendors around the farm like The Philadelphia Beekeepers Guild\, Unless Kids\, & more! And check in with Awbury’s farmers and farm friends to see whose showing up and showing out! \nEarth Day is a rain or shine event! Some come out and help us usher in the sunshine!
URL:https://awbury.org/event/earth-day-at-awbury-arboretum/
LOCATION:The Farm at Awbury\, 6336 Ardleigh St\, Philadelphia\, PA
CATEGORIES:Featured,Foraging and Herbal Education,Volunteering
ATTACH;FMTTYPE=image/png:https://awbury.org/wp-content/uploads/2025/02/CALENDAR-ICONS-24-Earth-Day-.png
END:VEVENT
BEGIN:VEVENT
DTSTART;TZID=America/New_York:20250120T100000
DTEND;TZID=America/New_York:20250120T130000
DTSTAMP:20260420T061340
CREATED:20241212T212917Z
LAST-MODIFIED:20250120T011802Z
UID:10000977-1737367200-1737378000@awbury.org
SUMMARY:MLK Day of Service - CANCELED DUE TO INCLEMENT WEATHER
DESCRIPTION:Join us at Awbury for our MLK Day of Service Volunteer Clean-up Day! This years project: Removing Ivy and other invasive vines from the stone wall in Haines Field as well as from the base of some old Yew trees along the wall. This will help to beautify Awbury Arboretum while also helping to do our part to help the environment by removing invasive species! \nCANCELED DUE TO INCLEMENT WEATHER. \n  \n  \n 
URL:https://awbury.org/event/mlk-day-of-service/
LOCATION:Awbury Arboretum\, One Awbury Road\, Philadelphia\, PA\, United States
CATEGORIES:Volunteering
ATTACH;FMTTYPE=image/png:https://awbury.org/wp-content/uploads/2024/12/LGL-Website-Graphics-21.png
END:VEVENT
END:VCALENDAR